BEGIN:VCALENDAR
VERSION:2.0
PRODID:icalendar-ruby
CALSCALE:GREGORIAN
METHOD:PUBLISH
BEGIN:VEVENT
DTSTAMP:20260421T043230Z
UID:5-1864116@sunnybrookunited.org
DTSTART:20250323T163000Z
DTEND:20250323T173000Z
CLASS:PUBLIC
CREATED:20260420T170908
DESCRIPTION:Worship Service
LAST-MODIFIED:20260420T170908
LOCATION:Main Sanctuary
SUMMARY:Worship Service
URL;VALUE=URI:https://www.sunnybrookunited.org/events/worship-service--2/20
 25-03-23
END:VEVENT
END:VCALENDAR
