BEGIN:VCALENDAR
VERSION:2.0
PRODID:icalendar-ruby
CALSCALE:GREGORIAN
METHOD:PUBLISH
BEGIN:VEVENT
DTSTAMP:20260420T211852Z
UID:5-1863316@sunnybrookunited.org
DTSTART:20250216T173000Z
DTEND:20250216T183000Z
CLASS:PUBLIC
CREATED:20260420T143356
DESCRIPTION:Worship Service
LAST-MODIFIED:20260420T143356
LOCATION:Main Sanctuary
SUMMARY:Worship Service
URL;VALUE=URI:https://www.sunnybrookunited.org/events/worship-service--2/20
 25-02-16
END:VEVENT
END:VCALENDAR
