BEGIN:VCALENDAR
VERSION:2.0
PRODID:icalendar-ruby
CALSCALE:GREGORIAN
METHOD:PUBLISH
BEGIN:VEVENT
DTSTAMP:20260420T194748Z
UID:5-1862520@sunnybrookunited.org
DTSTART:20250209T173000Z
DTEND:20250209T183000Z
CLASS:PUBLIC
CREATED:20260420T115816
DESCRIPTION:Worship Service
LAST-MODIFIED:20260420T115816
LOCATION:Main Sanctuary
SUMMARY:Worship Service
URL;VALUE=URI:https://www.sunnybrookunited.org/events/worship-service--2/20
 25-02-09
END:VEVENT
END:VCALENDAR
