BEGIN:VCALENDAR
VERSION:2.0
PRODID:icalendar-ruby
CALSCALE:GREGORIAN
METHOD:PUBLISH
BEGIN:VEVENT
DTSTAMP:20260420T182131Z
UID:5-1862519@sunnybrookunited.org
DTSTART:20250202T173000Z
DTEND:20250202T183000Z
CLASS:PUBLIC
CREATED:20260420T115816
DESCRIPTION:Worship Service
LAST-MODIFIED:20260420T115816
LOCATION:Main Sanctuary
SUMMARY:Worship Service
URL;VALUE=URI:https://www.sunnybrookunited.org/events/worship-service--2/20
 25-02-02
END:VEVENT
END:VCALENDAR
