BEGIN:VCALENDAR
VERSION:2.0
PRODID:icalendar-ruby
CALSCALE:GREGORIAN
METHOD:PUBLISH
BEGIN:VEVENT
DTSTAMP:20260420T105425Z
UID:5-1860129@sunnybrookunited.org
DTSTART:20241229T173000Z
DTEND:20241229T183000Z
CLASS:PUBLIC
CREATED:20260420T041440
DESCRIPTION:Worship Service
LAST-MODIFIED:20260420T041440
LOCATION:Main Sanctuary
SUMMARY:Worship Service
URL;VALUE=URI:https://www.sunnybrookunited.org/events/worship-service--2/20
 24-12-29
END:VEVENT
END:VCALENDAR
