BEGIN:VCALENDAR
VERSION:2.0
PRODID:icalendar-ruby
CALSCALE:GREGORIAN
METHOD:PUBLISH
BEGIN:VEVENT
DTSTAMP:20260420T092428Z
UID:5-1859333@sunnybrookunited.org
DTSTART:20241222T173000Z
DTEND:20241222T183000Z
CLASS:PUBLIC
CREATED:20260419T224651
DESCRIPTION:Worship Service
LAST-MODIFIED:20260419T224651
LOCATION:Main Sanctuary
SUMMARY:Worship Service
URL;VALUE=URI:https://www.sunnybrookunited.org/events/worship-service--2/20
 24-12-22
END:VEVENT
END:VCALENDAR
