BEGIN:VCALENDAR
VERSION:2.0
PRODID:icalendar-ruby
CALSCALE:GREGORIAN
METHOD:PUBLISH
BEGIN:VEVENT
DTSTAMP:20260420T074345Z
UID:5-1859332@sunnybrookunited.org
DTSTART:20241215T173000Z
DTEND:20241215T183000Z
CLASS:PUBLIC
CREATED:20260419T224650
DESCRIPTION:Worship Service
LAST-MODIFIED:20260419T224650
LOCATION:Main Sanctuary
SUMMARY:Worship Service
URL;VALUE=URI:https://www.sunnybrookunited.org/events/worship-service--2/20
 24-12-15
END:VEVENT
END:VCALENDAR
