BEGIN:VCALENDAR
VERSION:2.0
PRODID:icalendar-ruby
CALSCALE:GREGORIAN
METHOD:PUBLISH
BEGIN:VEVENT
DTSTAMP:20260419T234315Z
UID:5-1857737@sunnybrookunited.org
DTSTART:20241110T173000Z
DTEND:20241110T183000Z
CLASS:PUBLIC
CREATED:20260419T152843
DESCRIPTION:Worship Service
LAST-MODIFIED:20260419T152843
LOCATION:Main Sanctuary
SUMMARY:Worship Service
URL;VALUE=URI:https://www.sunnybrookunited.org/events/worship-service--2/20
 24-11-10
END:VEVENT
END:VCALENDAR
