BEGIN:VCALENDAR
VERSION:2.0
PRODID:icalendar-ruby
CALSCALE:GREGORIAN
METHOD:PUBLISH
BEGIN:VEVENT
DTSTAMP:20260419T203530Z
UID:5-1856940@sunnybrookunited.org
DTSTART:20241027T163000Z
DTEND:20241027T173000Z
CLASS:PUBLIC
CREATED:20260419T114558
DESCRIPTION:Worship Service
LAST-MODIFIED:20260419T114558
LOCATION:Main Sanctuary
SUMMARY:Worship Service
URL;VALUE=URI:https://www.sunnybrookunited.org/events/worship-service--2/20
 24-10-27
END:VEVENT
END:VCALENDAR
